BEGIN:VCALENDAR
VERSION:2.0
PRODID:-//Intramedics - ECPv6.2.2.1//NONSGML v1.0//EN
CALSCALE:GREGORIAN
METHOD:PUBLISH
X-ORIGINAL-URL:https://www.intramedics.eu
X-WR-CALDESC:Events for Intramedics
REFRESH-INTERVAL;VALUE=DURATION:PT1H
X-Robots-Tag:noindex
X-PUBLISHED-TTL:PT1H
BEGIN:VTIMEZONE
TZID:Europe/Brussels
BEGIN:DAYLIGHT
TZOFFSETFROM:+0100
TZOFFSETTO:+0200
TZNAME:CEST
DTSTART:20240331T010000
END:DAYLIGHT
BEGIN:STANDARD
TZOFFSETFROM:+0200
TZOFFSETTO:+0100
TZNAME:CET
DTSTART:20241027T010000
END:STANDARD
END:VTIMEZONE
BEGIN:VEVENT
DTSTART;TZID=Europe/Brussels:20240916T093000
DTEND;TZID=Europe/Brussels:20240916T170000
DTSTAMP:20260421T142749
CREATED:20240422T133822Z
LAST-MODIFIED:20240902T072532Z
UID:7996-1726479000-1726506000@www.intramedics.eu
SUMMARY:Advanced Course
DESCRIPTION:Laatste plaatsen: deadline inschrijvingen 15 augustus 2024 \nTrainingsprogramma voor klanten  \nIntramedics is opgericht vanuit de gedachte dat huidspecialisten hun kracht niet alleen halen uit effectieve producten en behandelingen\, maar dat zij kennis nodig hebben om hun doelen te kunnen bereiken en succesvol te blijven. Onze toewijding aan deze visie heeft geresulteerd in een uitgebreid trainingsprogramma voor onze klanten. Door dit trainingsprogramma kosteloos aan te bieden aan u als huidspecialist\, wordt u de kans geboden om het maximale uit uw expertise te halen. Farah Bourakadi en overige sprekers hopen u te mogen verwelkomen in Utrecht. \n\nData & locatie \n· Maandag 16 september van 09.30u (stipt!) tot 17.00u\n· Hotel Van der Valk Hotel Utrecht\, Winthontlaan 4\, 3526 KV Utrecht\n· GRATIS (bij no-show wordt er 75 euro onkosten aangerekend)
URL:https://www.intramedics.eu/event/advanced-course-2/
LOCATION:Van der Valk Utrecht\, Winthontlaan 4\, Utrecht\, 3526KV\, Netherlands
CATEGORIES:Advanced Course
END:VEVENT
END:VCALENDAR