BEGIN:VCALENDAR
VERSION:2.0
PRODID:-//Intramedics - ECPv6.2.2.1//NONSGML v1.0//EN
CALSCALE:GREGORIAN
METHOD:PUBLISH
X-WR-CALNAME:Intramedics
X-ORIGINAL-URL:https://www.intramedics.eu
X-WR-CALDESC:Events for Intramedics
REFRESH-INTERVAL;VALUE=DURATION:PT1H
X-Robots-Tag:noindex
X-PUBLISHED-TTL:PT1H
BEGIN:VTIMEZONE
TZID:Europe/Brussels
BEGIN:DAYLIGHT
TZOFFSETFROM:+0100
TZOFFSETTO:+0200
TZNAME:CEST
DTSTART:20260329T010000
END:DAYLIGHT
BEGIN:STANDARD
TZOFFSETFROM:+0200
TZOFFSETTO:+0100
TZNAME:CET
DTSTART:20261025T010000
END:STANDARD
END:VTIMEZONE
BEGIN:VEVENT
DTSTART;TZID=Europe/Brussels:20260921T093000
DTEND;TZID=Europe/Brussels:20260921T170000
DTSTAMP:20260421T130421
CREATED:20250124T141412Z
LAST-MODIFIED:20260213T082642Z
UID:8184-1789983000-1790010000@www.intramedics.eu
SUMMARY:Advanced Course - Eindhoven
DESCRIPTION:Trainingsprogramma voor klanten  \nIntramedics is opgericht vanuit de gedachte dat huidspecialisten hun kracht niet alleen halen uit effectieve producten en behandelingen\, maar dat zij kennis nodig hebben om hun doelen te kunnen bereiken en succesvol te blijven. Onze toewijding aan deze visie heeft geresulteerd in een uitgebreid trainingsprogramma voor onze klanten. Door dit trainingsprogramma kosteloos aan te bieden aan u als huidspecialist\, wordt u de kans geboden om het maximale uit uw expertise te halen. Farah Bourakadi en overige sprekers hopen u te mogen verwelkomen in Utrecht. \nData & locatie \n· Maandag 21 september van 09.30u (stipt!) tot 17.00u\n· Hotel Van der Valk Hotel Best\, Eindhovenseweg‑Zuid 144\, ​5683 PX\, Nederland\n· GRATIS (bij no-show wordt er 75 euro onkosten aangerekend)
URL:https://www.intramedics.eu/event/advanced-course/
LOCATION:Van Der Valk Eindhoven Best\, Eindhovenseweg‑Zuid 144\, Best \, 5683 PX\, Netherlands
CATEGORIES:Advanced Course
END:VEVENT
END:VCALENDAR