BEGIN:VCALENDAR
VERSION:2.0
PRODID:-//Intramedics - ECPv6.2.2.1//NONSGML v1.0//EN
CALSCALE:GREGORIAN
METHOD:PUBLISH
X-ORIGINAL-URL:https://www.intramedics.eu
X-WR-CALDESC:Events for Intramedics
REFRESH-INTERVAL;VALUE=DURATION:PT1H
X-Robots-Tag:noindex
X-PUBLISHED-TTL:PT1H
BEGIN:VTIMEZONE
TZID:Europe/Brussels
BEGIN:DAYLIGHT
TZOFFSETFROM:+0100
TZOFFSETTO:+0200
TZNAME:CEST
DTSTART:20260329T010000
END:DAYLIGHT
BEGIN:STANDARD
TZOFFSETFROM:+0200
TZOFFSETTO:+0100
TZNAME:CET
DTSTART:20261025T010000
END:STANDARD
END:VTIMEZONE
BEGIN:VEVENT
DTSTART;TZID=Europe/Brussels:20260427T100000
DTEND;TZID=Europe/Brussels:20260427T160000
DTSTAMP:20260421T130719
CREATED:20251030T110434Z
LAST-MODIFIED:20260312T131140Z
UID:8323-1777284000-1777305600@www.intramedics.eu
SUMMARY:Deep Dive training - België
DESCRIPTION:Trainingsprogramma voor klanten met focus op de protocollen en Advanced Combined Therapy\, inclusief ingrediëntenleer. \nOntdek de synergie tussen diverse behandelingen en technieken. Inclusief een uitgebreide opleiding voor baliepersoneel. Met de nadruk op ingrediëntenleer\, van consultatie tot controle. Intramedics is opgericht vanuit de gedachte dat huidspecialisten hun kracht niet alleen halen uit effectieve producten en behandelingen\, maar dat zij kennis nodig hebben om hun doelen te kunnen bereiken en succesvol te blijven. Onze toewijding aan deze visie heeft geresulteerd in een uitgebreid trainingsprogramma voor onze klanten. Door dit trainingsprogramma kosteloos aan te bieden aan u als huidspecialist\, wordt u de kans geboden om het maximale uit uw expertise te halen. Tips & tricks komen zeker van pas. Laat jouw kennis groeien\, mis het niet! \n\nWat mag u verwachten? \n· Dermaceutic en Renophase protocollen\n· Theraderm & Prèime protocollen\n· Advanced Combined Therapy\n· Ingrediëntenleer & verkoopstechnieken\n· Doelgroep: Gevorderden \n\nData & locatie\n\n· Maandag 27 april 2026 van 10.00u (stipt!) tot 16.00u\n· Art Medico Clinic Coupure links 629-001\, Gent\, Belgium\n· GRATIS (bij no-show wordt er 75 euro onkosten aangerekend)
URL:https://www.intramedics.eu/event/deep-dive-training-belgie-2/
LOCATION:Art Medico Clinic\, Coupure links 629-001\, Gent\, 9000\, Belgium
CATEGORIES:Training
END:VEVENT
BEGIN:VEVENT
DTSTART;TZID=Europe/Brussels:20260521T100000
DTEND;TZID=Europe/Brussels:20260521T160000
DTSTAMP:20260421T130719
CREATED:20251030T102930Z
LAST-MODIFIED:20260312T131215Z
UID:8297-1779357600-1779379200@www.intramedics.eu
SUMMARY:Deep Dive training – Nederland
DESCRIPTION:Trainingsprogramma voor klanten met focus op Combined Therapy\, inclusief ingrediëntenleer.  \nOntdek de synergie tussen diverse behandelingen en technieken. Inclusief een uitgebreide opleiding voor baliepersoneel. Met de nadruk op ingrediëntenleer\, van consultatie tot controle. Intramedics is opgericht vanuit de gedachte dat huidspecialisten hun kracht niet alleen halen uit effectieve producten en behandelingen\, maar dat zij kennis nodig hebben om hun doelen te kunnen bereiken en succesvol te blijven. Onze toewijding aan deze visie heeft geresulteerd in een uitgebreid trainingsprogramma voor onze bestaande klanten. Door dit trainingsprogramma kosteloos aan te bieden aan u als huidspecialist\, wordt u de kans geboden om het maximale uit uw expertise te halen. Tips & tricks komen zeker van pas. Laat jouw kennis groeien\, mis het niet! \n\nWat mag u verwachten? \n· Dermaceutic en Renophase protocollen\n· Theraderm & Prèime protocollen\n· Advanced Combined Therapy\n· Ingrediëntenleer & verkoopstechnieken\n· Doelgroep: Gevorderden \n\nData & locatie\n\n· Donderdag 21 mei 2026 van 10.00u (stipt!) tot 16.00u\n· Van der Valk Hotel\, Winthontlaan 4\, 3526 KV Utrecht\, Nederland\n· GRATIS (bij no-show wordt er 75 euro onkosten aangerekend)
URL:https://www.intramedics.eu/event/deep-dive-training-nederland-2/
LOCATION:Van der Valk Utrecht\, Winthontlaan 4\, Utrecht\, 3526KV\, Netherlands
CATEGORIES:Training
END:VEVENT
BEGIN:VEVENT
DTSTART;TZID=Europe/Brussels:20260521T190000
DTEND;TZID=Europe/Brussels:20260521T210000
DTSTAMP:20260421T130719
CREATED:20250424T113944Z
LAST-MODIFIED:20260323T163037Z
UID:8205-1779390000-1779397200@www.intramedics.eu
SUMMARY:Combined Therapy: Skin results\, backed by science
DESCRIPTION:Get ready for a successful season with our non-invasive protocols\, designed to deliver results without downtime\, with a special focus on the new Dermaceutic Cliniceuticals range. \nJoin us for an inspiring evening where science meets results. Learn to master advanced non-invasive protocols designed to optimize skin health\, enhance treatment outcomes\, and support your practice throughout every season. Gain practical insights into effective\, results-driven approaches\, with a special focus on the latest Dermaceutic Cliniceuticals innovations. \nFrom trend to treatment\nDiscover the latest active ingredients driving innovation in skin therapy and learn how to apply them.\nWith Krista Verstraete \nTreating skin through the seasons\nLearn how seasonal changes impact the skin and how to adapt your treatments and protocols to ensure consistent\, high-performance results throughout the year.\nWith Krista Verstraete \nCliniceuticals strategy session\nWhat you need to know about the new Cliniceuticals\, how to position them\, and how to maximize in-clinic results.\nWith Jan Heiremans \nDate & location\nJoin us on Thursday\, May 21 – from 7:00 PM to 9:00 PM\nReceive a delightful goodie bag\, appetizers and Champagne\nPro Skin Clinic – Gemeenteplein 6\, 1861 Meise – Belgium \nAanmelden\nFree entrance\nNo-shows or cancellations after May 14 will incur a €75 fee \n 
URL:https://www.intramedics.eu/event/combined-therapy-peeling-no-peel/
LOCATION:Pro Skin Clinic Meise\, Gemeenteplein 6\, Meise\, 1861\, Belgium
CATEGORIES:Training
END:VEVENT
BEGIN:VEVENT
DTSTART;TZID=Europe/Brussels:20260601T090000
DTEND;TZID=Europe/Brussels:20260601T123000
DTSTAMP:20260421T130719
CREATED:20251030T103607Z
LAST-MODIFIED:20260312T131317Z
UID:8305-1780304400-1780317000@www.intramedics.eu
SUMMARY:Renophase Basis training – België
DESCRIPTION:Trainingsprogramma voor klanten (starter & refresh) \nIntramedics is opgericht vanuit de gedachte dat huidspecialisten hun kracht niet alleen halen uit effectieve producten en behandelingen\, maar dat zij kennis nodig hebben om hun doelen te kunnen bereiken en succesvol te blijven. Onze toewijding aan deze visie heeft geresulteerd in een uitgebreid trainingsprogramma voor onze klanten. Door dit trainingsprogramma kosteloos aan te bieden aan u als huidspecialist\, wordt u de kans geboden om het maximale uit uw expertise te halen. Tips & tricks komen zeker van pas. Laat jouw kennis groeien\, mis het niet! \nWat mag u verwachten? \n· Introductie en visie ingrediëntenleer homecare en professionele producten\n· Productadvies per indicatie\n· Duurtijd: 1/2 dag\n· Doelgroep: Starters en refresh \n\nData & locatie\n\n· Maandag 01 juni 2026 van 09.00u (stipt!) tot 12.30u\n· Art Medico Clinic Coupure links 629-001\, Gent\, Belgium\n· GRATIS (bij no-show wordt er 75 euro onkosten aangerekend)
URL:https://www.intramedics.eu/event/renophase-basis-training-belgie-13/
LOCATION:Art Medico Clinic\, Coupure links 629-001\, Gent\, 9000\, Belgium
CATEGORIES:Training
END:VEVENT
BEGIN:VEVENT
DTSTART;TZID=Europe/Brussels:20260601T133000
DTEND;TZID=Europe/Brussels:20260601T170000
DTSTAMP:20260421T130719
CREATED:20251030T104212Z
LAST-MODIFIED:20260312T131249Z
UID:8315-1780320600-1780333200@www.intramedics.eu
SUMMARY:Dermaceutic Basis training – België
DESCRIPTION:Trainingsprogramma voor klanten (starter & refresh) \nIntramedics is opgericht vanuit de gedachte dat huidspecialisten hun kracht niet alleen halen uit effectieve producten en behandelingen\, maar dat zij kennis nodig hebben om hun doelen te kunnen bereiken en succesvol te blijven. Onze toewijding aan deze visie heeft geresulteerd in een uitgebreid trainingsprogramma voor onze nieuwe klanten. Door dit trainingsprogramma kosteloos aan te bieden aan u als huidspecialist\, wordt u de kans geboden om het maximale uit uw expertise te halen. Tips & tricks komen zeker van pas. Laat jouw kennis groeien\, mis het niet! \nWat mag u verwachten? \n· Introductie en visie Ingrediëntenleer homecare en professionele producten\n· Productadvies per indicatie\n· Duurtijd: 1/2 dag\n· Doelgroep: Starters en refresh \n\nData & locatie\n\n· Maandag 01 juni 2026 van 13.30u (stipt!) tot 17.00u\n· Art Medico Clinic Coupure links 629-001\, Gent\, Belgium\n· GRATIS (bij no-show wordt er 75 euro onkosten aangerekend)
URL:https://www.intramedics.eu/event/dermaceutic-basis-training-belgie-13/
LOCATION:Art Medico Clinic\, Coupure links 629-001\, Gent\, 9000\, Belgium
CATEGORIES:Training
END:VEVENT
BEGIN:VEVENT
DTSTART;TZID=Europe/Brussels:20260604T133000
DTEND;TZID=Europe/Brussels:20260604T170000
DTSTAMP:20260421T130719
CREATED:20251030T102229Z
LAST-MODIFIED:20260312T131354Z
UID:8289-1780579800-1780592400@www.intramedics.eu
SUMMARY:Dermaceutic Basis training – Nederland
DESCRIPTION:Trainingsprogramma voor klanten (starter & refresh) \nIntramedics is opgericht vanuit de gedachte dat huidspecialisten hun kracht niet alleen halen uit effectieve producten en behandelingen\, maar dat zij kennis nodig hebben om hun doelen te kunnen bereiken en succesvol te blijven. Onze toewijding aan deze visie heeft geresulteerd in een uitgebreid trainingsprogramma voor onze klanten. Door dit trainingsprogramma kosteloos aan te bieden aan u als huidspecialist\, wordt u de kans geboden om het maximale uit uw expertise te halen. Tips & tricks komen zeker van pas. Laat jouw kennis groeien\, mis het niet! \n\nWat mag u verwachten? \n· Introductie en visie ingrediëntenleer homecare en professionele producten\n· Productadvies per indicatie\n· Duurtijd: 1/2 dag\n· Doelgroep: Starters en refresh \n\nData & locatie\n\n· Donderdag 04 juni 2026 van 13.30u (stipt!) tot 17.00u\n· Van der Valk Hotel\, Winthontlaan 4\, 3526 KV Utrecht\, Nederland\n· GRATIS (bij no-show wordt er 75 euro onkosten aangerekend)
URL:https://www.intramedics.eu/event/dermaceutic-basis-training-nederland-12/
LOCATION:Van der Valk Utrecht\, Winthontlaan 4\, Utrecht\, 3526KV\, Netherlands
CATEGORIES:Training
END:VEVENT
BEGIN:VEVENT
DTSTART;TZID=Europe/Brussels:20260608T160000
DTEND;TZID=Europe/Brussels:20260608T190000
DTSTAMP:20260421T130719
CREATED:20260405T124218Z
LAST-MODIFIED:20260405T124345Z
UID:8475-1780934400-1780945200@www.intramedics.eu
SUMMARY:Intramedics meets Medi-Invest
DESCRIPTION:Benieuwd hoe je het beste uit je behandelingen kunt halen? \nTijdens Intramedics meets Medi-Invest leer je hoe je peelings en biostimulatoren optimaal combineert met laser- en IPL-behandelingen voor sterke resultaten. We nodigen u graag uit voor een inspirerende avond! \nCombined Therapy protocollen die aan bod komen \nUltra Clear 2910 + Theraderm Mela02 facial + PDT\nOplossing tegen pigmentatie\, lijntjes en doffe huid\n \nMosaic 3D laser 1550 nm met needling Préime PDRN + Bio exosomen\nCollageenboost\, anti-inflammatoire werking en een stralende glow \nData & locatie \nMaandag 08 juni 2026 van 16u tot 19u\nArt Medico Clinic – Coupure Links 629/1 – Gent \nWat kun je verwachten? \n✔ Praktische inzichten in Combined Therapy\n✔ Tips & tricks voor laser- en IPL-behandelingen\n✔ Behandelstrategieën voor pigmentatie\, roodheid en anti-aging\n✔ Live praktijkervaringen en protocollen\n✔ Netwerkmoment met collega-professionals \nIn samenwerking met \nMarit van Boldrik – Huidtherapeut en trainer Medi-invest\nKrista Verstraete – Trainer Combined Therapy Intramedics\nGrace De Vos – Trainer Combined Therapy Intramedics
URL:https://www.intramedics.eu/event/intramedics-meets-medi-invest-be/
LOCATION:Art Medico Clinic\, Coupure links 629-001\, Gent\, 9000\, Belgium
CATEGORIES:Training
END:VEVENT
BEGIN:VEVENT
DTSTART;TZID=Europe/Brussels:20260907T090000
DTEND;TZID=Europe/Brussels:20260907T123000
DTSTAMP:20260421T130719
CREATED:20251030T103701Z
LAST-MODIFIED:20260312T131547Z
UID:8307-1788771600-1788784200@www.intramedics.eu
SUMMARY:Renophase Basis training – België
DESCRIPTION:Trainingsprogramma voor klanten (starter & refresh) \nIntramedics is opgericht vanuit de gedachte dat huidspecialisten hun kracht niet alleen halen uit effectieve producten en behandelingen\, maar dat zij kennis nodig hebben om hun doelen te kunnen bereiken en succesvol te blijven. Onze toewijding aan deze visie heeft geresulteerd in een uitgebreid trainingsprogramma voor onze klanten. Door dit trainingsprogramma kosteloos aan te bieden aan u als huidspecialist\, wordt u de kans geboden om het maximale uit uw expertise te halen. Tips & tricks komen zeker van pas. Laat jouw kennis groeien\, mis het niet! \nWat mag u verwachten? \n· Introductie en visie ingrediëntenleer homecare en professionele producten\n· Productadvies per indicatie\n· Duurtijd: 1/2 dag\n· Doelgroep: Starters en refresh \n\nData & locatie\n\n· Maandag 07 september 2026 van 09.00u (stipt!) tot 12.30u\n· Art Medico Clinic Coupure links 629-001\, Gent\, Belgium\n· GRATIS (bij no-show wordt er 75 euro onkosten aangerekend)
URL:https://www.intramedics.eu/event/renophase-basis-training-belgie-14/
LOCATION:Art Medico Clinic\, Coupure links 629-001\, Gent\, 9000\, Belgium
CATEGORIES:Training
END:VEVENT
BEGIN:VEVENT
DTSTART;TZID=Europe/Brussels:20260907T133000
DTEND;TZID=Europe/Brussels:20260907T170000
DTSTAMP:20260421T130719
CREATED:20251030T104309Z
LAST-MODIFIED:20260312T131516Z
UID:8317-1788787800-1788800400@www.intramedics.eu
SUMMARY:Dermaceutic Basis training – België
DESCRIPTION:Trainingsprogramma voor klanten (starter & refresh) \nIntramedics is opgericht vanuit de gedachte dat huidspecialisten hun kracht niet alleen halen uit effectieve producten en behandelingen\, maar dat zij kennis nodig hebben om hun doelen te kunnen bereiken en succesvol te blijven. Onze toewijding aan deze visie heeft geresulteerd in een uitgebreid trainingsprogramma voor onze nieuwe klanten. Door dit trainingsprogramma kosteloos aan te bieden aan u als huidspecialist\, wordt u de kans geboden om het maximale uit uw expertise te halen. Tips & tricks komen zeker van pas. Laat jouw kennis groeien\, mis het niet! \nWat mag u verwachten? \n· Introductie en visie Ingrediëntenleer homecare en professionele producten\n· Productadvies per indicatie\n· Duurtijd: 1/2 dag\n· Doelgroep: Starters en refresh \n\nData & locatie\n\n· Maandag 07 september 2026 van 13.30u (stipt!) tot 17.00u\n· Art Medico Clinic Coupure links 629-001\, Gent\, Belgium\n· GRATIS (bij no-show wordt er 75 euro onkosten aangerekend)
URL:https://www.intramedics.eu/event/dermaceutic-basis-training-belgie-14/
LOCATION:Art Medico Clinic\, Coupure links 629-001\, Gent\, 9000\, Belgium
CATEGORIES:Training
END:VEVENT
BEGIN:VEVENT
DTSTART;TZID=Europe/Brussels:20261001T090000
DTEND;TZID=Europe/Brussels:20261001T123000
DTSTAMP:20260421T130719
CREATED:20251030T101714Z
LAST-MODIFIED:20260312T131659Z
UID:8281-1790845200-1790857800@www.intramedics.eu
SUMMARY:Renophase Basis training – Nederland
DESCRIPTION:Trainingsprogramma voor klanten (starter & refresh) \nIntramedics is opgericht vanuit de gedachte dat huidspecialisten hun kracht niet alleen halen uit effectieve producten en behandelingen\, maar dat zij kennis nodig hebben om hun doelen te kunnen bereiken en succesvol te blijven. Onze toewijding aan deze visie heeft geresulteerd in een uitgebreid trainingsprogramma voor onze klanten. Door dit trainingsprogramma kosteloos aan te bieden aan u als huidspecialist\, wordt u de kans geboden om het maximale uit uw expertise te halen. Tips & tricks komen zeker van pas. Laat jouw kennis groeien\, mis het niet! \n\nWat mag u verwachten? \n· Introductie en visie ingrediëntenleer homecare en professionele producten\n· Productadvies per indicatie\n· Duurtijd: 1/2 dag\n· Doelgroep: Starters en refresh \n\nData & locatie\n\n· Donderdag 01 oktober 2026 van 09.00u (stipt!) tot 12.30u\n· Van der Valk Hotel\, Winthontlaan 4\, 3526 KV Utrecht\, Nederland\n· GRATIS (bij no-show wordt er 75 euro onkosten aangerekend
URL:https://www.intramedics.eu/event/renophase-basis-training-nederland-14/
LOCATION:Van der Valk Utrecht\, Winthontlaan 4\, Utrecht\, 3526KV\, Netherlands
CATEGORIES:Training
END:VEVENT
BEGIN:VEVENT
DTSTART;TZID=Europe/Brussels:20261001T133000
DTEND;TZID=Europe/Brussels:20261001T170000
DTSTAMP:20260421T130719
CREATED:20251030T102328Z
LAST-MODIFIED:20260312T131629Z
UID:8291-1790861400-1790874000@www.intramedics.eu
SUMMARY:Dermaceutic Basis training – Nederland
DESCRIPTION:Trainingsprogramma voor klanten (starter & refresh) \nIntramedics is opgericht vanuit de gedachte dat huidspecialisten hun kracht niet alleen halen uit effectieve producten en behandelingen\, maar dat zij kennis nodig hebben om hun doelen te kunnen bereiken en succesvol te blijven. Onze toewijding aan deze visie heeft geresulteerd in een uitgebreid trainingsprogramma voor onze klanten. Door dit trainingsprogramma kosteloos aan te bieden aan u als huidspecialist\, wordt u de kans geboden om het maximale uit uw expertise te halen. Tips & tricks komen zeker van pas. Laat jouw kennis groeien\, mis het niet! \n\nWat mag u verwachten? \n· Introductie en visie ingrediëntenleer homecare en professionele producten\n· Productadvies per indicatie\n· Duurtijd: 1/2 dag\n· Doelgroep: Starters en refresh \n\nData & locatie\n\n· Donderdag 01 oktober 2026 van 13.30u (stipt!) tot 17.00u\n· Van der Valk Hotel\, Winthontlaan 4\, 3526 KV Utrecht\, Nederland\n· GRATIS (bij no-show wordt er 75 euro onkosten aangerekend)
URL:https://www.intramedics.eu/event/dermaceutic-basis-training-nederland-13/
LOCATION:Van der Valk Utrecht\, Winthontlaan 4\, Utrecht\, 3526KV\, Netherlands
CATEGORIES:Training
END:VEVENT
BEGIN:VEVENT
DTSTART;TZID=Europe/Brussels:20261026T090000
DTEND;TZID=Europe/Brussels:20261026T123000
DTSTAMP:20260421T130719
CREATED:20251030T103828Z
LAST-MODIFIED:20260312T131808Z
UID:8309-1793005200-1793017800@www.intramedics.eu
SUMMARY:Renophase Basis training – België
DESCRIPTION:Trainingsprogramma voor klanten (starter & refresh) \nIntramedics is opgericht vanuit de gedachte dat huidspecialisten hun kracht niet alleen halen uit effectieve producten en behandelingen\, maar dat zij kennis nodig hebben om hun doelen te kunnen bereiken en succesvol te blijven. Onze toewijding aan deze visie heeft geresulteerd in een uitgebreid trainingsprogramma voor onze klanten. Door dit trainingsprogramma kosteloos aan te bieden aan u als huidspecialist\, wordt u de kans geboden om het maximale uit uw expertise te halen. Tips & tricks komen zeker van pas. Laat jouw kennis groeien\, mis het niet! \nWat mag u verwachten? \n· Introductie en visie ingrediëntenleer homecare en professionele producten\n· Productadvies per indicatie\n· Duurtijd: 1/2 dag\n· Doelgroep: Starters en refresh \n\nData & locatie\n\n· Maandag 26 oktober 2026 van 09.00u (stipt!) tot 12.30u\n· Crown Plaza Antwerpen – Gerard Le Grellelaan 10\n· GRATIS (bij no-show wordt er 75 euro onkosten aangerekend)
URL:https://www.intramedics.eu/event/renophase-basis-training-belgie-15/
LOCATION:Art Medico Clinic\, Coupure links 629-001\, Gent\, 9000\, Belgium
CATEGORIES:Training
END:VEVENT
BEGIN:VEVENT
DTSTART;TZID=Europe/Brussels:20261026T133000
DTEND;TZID=Europe/Brussels:20261026T170000
DTSTAMP:20260421T130719
CREATED:20251030T104358Z
LAST-MODIFIED:20260312T131734Z
UID:8319-1793021400-1793034000@www.intramedics.eu
SUMMARY:Dermaceutic Basis training – België
DESCRIPTION:Trainingsprogramma voor klanten (starter & refresh) \nIntramedics is opgericht vanuit de gedachte dat huidspecialisten hun kracht niet alleen halen uit effectieve producten en behandelingen\, maar dat zij kennis nodig hebben om hun doelen te kunnen bereiken en succesvol te blijven. Onze toewijding aan deze visie heeft geresulteerd in een uitgebreid trainingsprogramma voor onze nieuwe klanten. Door dit trainingsprogramma kosteloos aan te bieden aan u als huidspecialist\, wordt u de kans geboden om het maximale uit uw expertise te halen. Tips & tricks komen zeker van pas. Laat jouw kennis groeien\, mis het niet! \nWat mag u verwachten? \n· Introductie en visie Ingrediëntenleer homecare en professionele producten\n· Productadvies per indicatie\n· Duurtijd: 1/2 dag\n· Doelgroep: Starters en refresh \n\nData & locatie\n\n· Maandag 26 oktober 2026 van 13.30u (stipt!) tot 17.00u\n· Crown Plaza Antwerpen – Gerard Le Grellelaan 10\n· GRATIS (bij no-show wordt er 75 euro onkosten aangerekend)
URL:https://www.intramedics.eu/event/dermaceutic-basis-training-belgie-15/
LOCATION:Art Medico Clinic\, Coupure links 629-001\, Gent\, 9000\, Belgium
CATEGORIES:Training
END:VEVENT
BEGIN:VEVENT
DTSTART;TZID=Europe/Brussels:20261029T100000
DTEND;TZID=Europe/Brussels:20261029T160000
DTSTAMP:20260421T130719
CREATED:20251030T103026Z
LAST-MODIFIED:20260312T131836Z
UID:8299-1793268000-1793289600@www.intramedics.eu
SUMMARY:Deep Dive training – Nederland
DESCRIPTION:Trainingsprogramma voor klanten met focus op Combined Therapy\, inclusief ingrediëntenleer.  \nOntdek de synergie tussen diverse behandelingen en technieken. Inclusief een uitgebreide opleiding voor baliepersoneel. Met de nadruk op ingrediëntenleer\, van consultatie tot controle. Intramedics is opgericht vanuit de gedachte dat huidspecialisten hun kracht niet alleen halen uit effectieve producten en behandelingen\, maar dat zij kennis nodig hebben om hun doelen te kunnen bereiken en succesvol te blijven. Onze toewijding aan deze visie heeft geresulteerd in een uitgebreid trainingsprogramma voor onze bestaande klanten. Door dit trainingsprogramma kosteloos aan te bieden aan u als huidspecialist\, wordt u de kans geboden om het maximale uit uw expertise te halen. Tips & tricks komen zeker van pas. Laat jouw kennis groeien\, mis het niet! \n\nWat mag u verwachten? \n· Dermaceutic en Renophase protocollen\n· Theraderm & Prèime protocollen\n· Advanced Combined Therapy\n· Ingrediëntenleer & verkoopstechnieken\n· Doelgroep: Gevorderden \n\nData & locatie\n\n· Donderdag 29 oktober 2026 van 10.00u (stipt!) tot 16.00u\n· Van der Valk Hotel\, Winthontlaan 4\, 3526 KV Utrecht\, Nederland\n· GRATIS (bij no-show wordt er 75 euro onkosten aangerekend)
URL:https://www.intramedics.eu/event/deep-dive-training-nederland-3/
LOCATION:Van der Valk Utrecht\, Winthontlaan 4\, Utrecht\, 3526KV\, Netherlands
CATEGORIES:Training
END:VEVENT
BEGIN:VEVENT
DTSTART;TZID=Europe/Brussels:20261109T100000
DTEND;TZID=Europe/Brussels:20261109T160000
DTSTAMP:20260421T130719
CREATED:20251030T110533Z
LAST-MODIFIED:20260312T131919Z
UID:8325-1794218400-1794240000@www.intramedics.eu
SUMMARY:Deep Dive training - België
DESCRIPTION:Trainingsprogramma voor klanten met focus op de protocollen en Advanced Combined Therapy\, inclusief ingrediëntenleer. \nOntdek de synergie tussen diverse behandelingen en technieken. Inclusief een uitgebreide opleiding voor baliepersoneel. Met de nadruk op ingrediëntenleer\, van consultatie tot controle. Intramedics is opgericht vanuit de gedachte dat huidspecialisten hun kracht niet alleen halen uit effectieve producten en behandelingen\, maar dat zij kennis nodig hebben om hun doelen te kunnen bereiken en succesvol te blijven. Onze toewijding aan deze visie heeft geresulteerd in een uitgebreid trainingsprogramma voor onze klanten. Door dit trainingsprogramma kosteloos aan te bieden aan u als huidspecialist\, wordt u de kans geboden om het maximale uit uw expertise te halen. Tips & tricks komen zeker van pas. Laat jouw kennis groeien\, mis het niet! \n\nWat mag u verwachten? \n· Dermaceutic en Renophase protocollen\n· Theraderm & Prèime protocollen\n· Advanced Combined Therapy\n· Ingrediëntenleer & verkoopstechnieken\n· Doelgroep: Gevorderden \n\nData & locatie\n\n· Maandag 16 november 2026 van 10.00u (stipt!) tot 16.00u\n· Art Medico Clinic Coupure links 629-001\, Gent\, Belgium\n· GRATIS (bij no-show wordt er 75 euro onkosten aangerekend)
URL:https://www.intramedics.eu/event/deep-dive-training-belgie-3/
LOCATION:Art Medico Clinic\, Coupure links 629-001\, Gent\, 9000\, Belgium
CATEGORIES:Training
END:VEVENT
BEGIN:VEVENT
DTSTART;TZID=Europe/Brussels:20261126T090000
DTEND;TZID=Europe/Brussels:20261126T123000
DTSTAMP:20260421T130719
CREATED:20251030T101813Z
LAST-MODIFIED:20260312T132029Z
UID:8283-1795683600-1795696200@www.intramedics.eu
SUMMARY:Renophase Basis training – Nederland
DESCRIPTION:Trainingsprogramma voor klanten (starter & refresh) \nIntramedics is opgericht vanuit de gedachte dat huidspecialisten hun kracht niet alleen halen uit effectieve producten en behandelingen\, maar dat zij kennis nodig hebben om hun doelen te kunnen bereiken en succesvol te blijven. Onze toewijding aan deze visie heeft geresulteerd in een uitgebreid trainingsprogramma voor onze klanten. Door dit trainingsprogramma kosteloos aan te bieden aan u als huidspecialist\, wordt u de kans geboden om het maximale uit uw expertise te halen. Tips & tricks komen zeker van pas. Laat jouw kennis groeien\, mis het niet! \n\nWat mag u verwachten? \n· Introductie en visie ingrediëntenleer homecare en professionele producten\n· Productadvies per indicatie\n· Duurtijd: 1/2 dag\n· Doelgroep: Starters en refresh \n\nData & locatie\n\n· Donderdag 26 november 2026 van 09.00u (stipt!) tot 12.30u\n· Van der Valk Hotel\, Winthontlaan 4\, 3526 KV Utrecht\, Nederland\n· GRATIS (bij no-show wordt er 75 euro onkosten aangerekend
URL:https://www.intramedics.eu/event/renophase-basis-training-nederland-15/
LOCATION:Van der Valk Utrecht\, Winthontlaan 4\, Utrecht\, 3526KV\, Netherlands
CATEGORIES:Training
END:VEVENT
BEGIN:VEVENT
DTSTART;TZID=Europe/Brussels:20261126T133000
DTEND;TZID=Europe/Brussels:20261126T170000
DTSTAMP:20260421T130719
CREATED:20251030T102421Z
LAST-MODIFIED:20260312T131955Z
UID:8293-1795699800-1795712400@www.intramedics.eu
SUMMARY:Dermaceutic Basis training – Nederland
DESCRIPTION:Trainingsprogramma voor klanten (starter & refresh) \nIntramedics is opgericht vanuit de gedachte dat huidspecialisten hun kracht niet alleen halen uit effectieve producten en behandelingen\, maar dat zij kennis nodig hebben om hun doelen te kunnen bereiken en succesvol te blijven. Onze toewijding aan deze visie heeft geresulteerd in een uitgebreid trainingsprogramma voor onze klanten. Door dit trainingsprogramma kosteloos aan te bieden aan u als huidspecialist\, wordt u de kans geboden om het maximale uit uw expertise te halen. Tips & tricks komen zeker van pas. Laat jouw kennis groeien\, mis het niet! \n\nWat mag u verwachten? \n· Introductie en visie ingrediëntenleer homecare en professionele producten\n· Productadvies per indicatie\n· Duurtijd: 1/2 dag\n· Doelgroep: Starters en refresh \n\nData & locatie\n\n· Donderdag 26 november 2026 van 13.30u (stipt!) tot 17.00u\n· Van der Valk Hotel\, Winthontlaan 4\, 3526 KV Utrecht\, Nederland\n· GRATIS (bij no-show wordt er 75 euro onkosten aangerekend)
URL:https://www.intramedics.eu/event/dermaceutic-basis-training-nederland-14/
LOCATION:Van der Valk Utrecht\, Winthontlaan 4\, Utrecht\, 3526KV\, Netherlands
CATEGORIES:Training
END:VEVENT
END:VCALENDAR