BEGIN:VCALENDAR
VERSION:2.0
PRODID:-//Intramedics - ECPv6.2.2.1//NONSGML v1.0//EN
CALSCALE:GREGORIAN
METHOD:PUBLISH
X-ORIGINAL-URL:https://www.intramedics.eu
X-WR-CALDESC:Events for Intramedics
REFRESH-INTERVAL;VALUE=DURATION:PT1H
X-Robots-Tag:noindex
X-PUBLISHED-TTL:PT1H
BEGIN:VTIMEZONE
TZID:Europe/Brussels
BEGIN:DAYLIGHT
TZOFFSETFROM:+0100
TZOFFSETTO:+0200
TZNAME:CEST
DTSTART:20240331T010000
END:DAYLIGHT
BEGIN:STANDARD
TZOFFSETFROM:+0200
TZOFFSETTO:+0100
TZNAME:CET
DTSTART:20241027T010000
END:STANDARD
END:VTIMEZONE
BEGIN:VEVENT
DTSTART;TZID=Europe/Brussels:20241118T100000
DTEND;TZID=Europe/Brussels:20241118T160000
DTSTAMP:20260421T172045
CREATED:20230713T103549Z
LAST-MODIFIED:20241114T082709Z
UID:7934-1731924000-1731945600@www.intramedics.eu
SUMMARY:Dive Into Protocols – Nederland
DESCRIPTION:Trainingsprogramma voor klanten met focus op Combined Therapy\, inclusief ingrediëntenleer.  \nOntdek de synergie tussen diverse behandelingen en technieken. Inclusief een uitgebreide opleiding voor baliepersoneel. Met de nadruk op ingrediëntenleer\, van consultatie tot controle. Intramedics is opgericht vanuit de gedachte dat huidspecialisten hun kracht niet alleen halen uit effectieve producten en behandelingen\, maar dat zij kennis nodig hebben om hun doelen te kunnen bereiken en succesvol te blijven. Onze toewijding aan deze visie heeft geresulteerd in een uitgebreid trainingsprogramma voor onze bestaande klanten. Door dit trainingsprogramma kosteloos aan te bieden aan u als huidspecialist\, wordt u de kans geboden om het maximale uit uw expertise te halen. Tips & tricks komen zeker van pas. Laat jouw kennis groeien\, mis het niet! \n\nWat mag u verwachten? \n· Dermaceutic en Renophase protocollen\n· Theraderm & SRS protocollen\n· Advanced Combined Therapy\n· Ingrediëntenleer & verkoopstechnieken\n· Doelgroep: Gevorderden \n\nData & locatie\n\n· Maandag 18 november 2024 van 10.00u (stipt!) tot 16.00u\n· Van der Valk Hotel\, Winthontlaan 4\, 3526 KV Utrecht\, Nederland\n· GRATIS (bij no-show wordt er 75 euro onkosten aangerekend)
URL:https://www.intramedics.eu/event/dive-into-protocols-nederland-4/
LOCATION:Van der Valk Utrecht\, Winthontlaan 4\, Utrecht\, 3526KV\, Netherlands
CATEGORIES:Training
END:VEVENT
BEGIN:VEVENT
DTSTART;TZID=Europe/Brussels:20241118T100000
DTEND;TZID=Europe/Brussels:20241118T160000
DTSTAMP:20260421T172045
CREATED:20230713T102826Z
LAST-MODIFIED:20241114T083307Z
UID:7928-1731924000-1731945600@www.intramedics.eu
SUMMARY:Dive Into Protocols – België
DESCRIPTION:Trainingsprogramma voor klanten met focus op de protocollen en Advanced Combined Therapy\, inclusief ingrediëntenleer. \nOntdek de synergie tussen diverse behandelingen en technieken. Inclusief een uitgebreide opleiding voor baliepersoneel. Met de nadruk op ingrediëntenleer\, van consultatie tot controle. Intramedics is opgericht vanuit de gedachte dat huidspecialisten hun kracht niet alleen halen uit effectieve producten en behandelingen\, maar dat zij kennis nodig hebben om hun doelen te kunnen bereiken en succesvol te blijven. Onze toewijding aan deze visie heeft geresulteerd in een uitgebreid trainingsprogramma voor onze klanten. Door dit trainingsprogramma kosteloos aan te bieden aan u als huidspecialist\, wordt u de kans geboden om het maximale uit uw expertise te halen. Tips & tricks komen zeker van pas. Laat jouw kennis groeien\, mis het niet! \n\nWat mag u verwachten? \n· Dermaceutic en Renophase protocollen\n· Theraderm & SRS protocollen\n· Advanced Combined Therapy\n· Ingrediëntenleer & verkoopstechnieken\n· Doelgroep: Gevorderden \n\nData & locatie\n\n· Maandag 18 november 2024 van 10.00u (stipt!) tot 16.00u\n· Crown Plaza Antwerpen – Gerard Le Grellelaan 10\n· GRATIS (bij no-show wordt er 75 euro onkosten aangerekend)
URL:https://www.intramedics.eu/event/dive-into-protocols-belgie-4/
LOCATION:Art Medico Clinic\, Coupure links 629-001\, Gent\, 9000\, Belgium
CATEGORIES:Training
END:VEVENT
BEGIN:VEVENT
DTSTART;TZID=Europe/Brussels:20240708T100000
DTEND;TZID=Europe/Brussels:20240708T160000
DTSTAMP:20260421T172045
CREATED:20230713T103311Z
LAST-MODIFIED:20240703T122020Z
UID:7932-1720432800-1720454400@www.intramedics.eu
SUMMARY:Dive Into Protocols – Nederland
DESCRIPTION:Trainingsprogramma voor klanten met focus op de protocollen en Advanced Combined Therapy\, inclusief ingrediëntenleer.  \nOntdek de synergie tussen diverse behandelingen en technieken. Inclusief een uitgebreide opleiding voor baliepersoneel. Met de nadruk op ingrediëntenleer\, van consultatie tot controle. Intramedics is opgericht vanuit de gedachte dat huidspecialisten hun kracht niet alleen halen uit effectieve producten en behandelingen\, maar dat zij kennis nodig hebben om hun doelen te kunnen bereiken en succesvol te blijven. Onze toewijding aan deze visie heeft geresulteerd in een uitgebreid trainingsprogramma voor onze bestaande klanten. Door dit trainingsprogramma kosteloos aan te bieden aan u als huidspecialist\, wordt u de kans geboden om het maximale uit uw expertise te halen. Tips & tricks komen zeker van pas. Laat jouw kennis groeien\, mis het niet! \n\nWat mag u verwachten? \n· Dermaceutic en Renophase protocollen\n· Theraderm & SRS protocollen\n· Advanced Combined Therapy\n· Ingrediëntenleer & verkoopstechnieken\n· Doelgroep: Gevorderden \n\nData & locatie\n\n· Maandag 08 juli 2024 van 10.00u (stipt!) tot 16.00u\n· Van der Valk Hotel\, Winthontlaan 4\, 3526 KV Utrecht\, Nederland\n· GRATIS (bij no-show wordt er 75 euro onkosten aangerekend)
URL:https://www.intramedics.eu/event/dive-into-protocols-nederland-3/
LOCATION:Van der Valk Utrecht\, Winthontlaan 4\, Utrecht\, 3526KV\, Netherlands
CATEGORIES:Training
END:VEVENT
BEGIN:VEVENT
DTSTART;TZID=Europe/Brussels:20240708T100000
DTEND;TZID=Europe/Brussels:20240708T160000
DTSTAMP:20260421T172045
CREATED:20230713T102643Z
LAST-MODIFIED:20240703T122046Z
UID:7926-1720432800-1720454400@www.intramedics.eu
SUMMARY:Dive Into Protocols – België
DESCRIPTION:Trainingsprogramma voor klanten met focus op de protocollen en Advanced Combined Therapy\, inclusief ingrediëntenleer.  \nOntdek de synergie tussen diverse behandelingen en technieken. Inclusief een uitgebreide opleiding voor baliepersoneel. Met de nadruk op ingrediëntenleer\, van consultatie tot controle. Intramedics is opgericht vanuit de gedachte dat huidspecialisten hun kracht niet alleen halen uit effectieve producten en behandelingen\, maar dat zij kennis nodig hebben om hun doelen te kunnen bereiken en succesvol te blijven. Onze toewijding aan deze visie heeft geresulteerd in een uitgebreid trainingsprogramma voor onze klanten. Door dit trainingsprogramma kosteloos aan te bieden aan u als huidspecialist\, wordt u de kans geboden om het maximale uit uw expertise te halen. Tips & tricks komen zeker van pas. Laat jouw kennis groeien\, mis het niet! \n\nWat mag u verwachten? \n· Dermaceutic en Renophase protocollen\n· Theraderm & SRS protocollen\n· Advanced Combined Therapy\n· Ingrediëntenleer & verkoopstechnieken\n· Doelgroep: Gevorderden \n\nData & locatie\n\n· Maandag 08 juli 2024 van 10.00u (stipt!) tot 16.00u\n· Crown Plaza Antwerpen – Gerard Le Grellelaan 10\n· GRATIS (bij no-show wordt er 75 euro onkosten aangerekend)
URL:https://www.intramedics.eu/event/dive-into-protocols-belgie-3/
LOCATION:Art Medico Clinic\, Coupure links 629-001\, Gent\, 9000\, Belgium
CATEGORIES:Training
END:VEVENT
BEGIN:VEVENT
DTSTART;TZID=Europe/Brussels:20240527T100000
DTEND;TZID=Europe/Brussels:20240527T160000
DTSTAMP:20260421T172045
CREATED:20230713T103009Z
LAST-MODIFIED:20240522T123906Z
UID:7930-1716804000-1716825600@www.intramedics.eu
SUMMARY:Dive Into Protocols – Nederland
DESCRIPTION:Trainingsprogramma voor klanten met focus op de protocollen en Advanced Combined Therapy\, inclusief ingediëntenleer.  \nOntdek de synergie tussen diverse behandelingen en technieken. Inclusief een uitgebreide opleiding voor baliepersoneel. Met de nadruk op ingrediëntenleer\, van consultatie tot controle. Intramedics is opgericht vanuit de gedachte dat huidspecialisten hun kracht niet alleen halen uit effectieve producten en behandelingen\, maar dat zij kennis nodig hebben om hun doelen te kunnen bereiken en succesvol te blijven. Onze toewijding aan deze visie heeft geresulteerd in een uitgebreid trainingsprogramma voor onze bestaande klanten. Door dit trainingsprogramma kosteloos aan te bieden aan u als huidspecialist\, wordt u de kans geboden om het maximale uit uw expertise te halen. Tips & tricks komen zeker van pas. Laat jouw kennis groeien\, mis het niet! \n\nWat mag u verwachten? \n· Dermaceutic en Renophase protocollen\n· Theraderm & SRS protocollen\n· Advanced Combined Therapy\n· Ingrediëntenleer & verkoopstechnieken\n· Doelgroep: Gevorderden \n\nData & locatie\n\n· Maandag 27 mei 2024 van 10.00u (stipt!) tot 16.00u\n· Van der Valk Hotel\, Winthontlaan 4\, 3526 KV Utrecht\, Nederland\n· GRATIS (bij no-show wordt er 75 euro onkosten aangerekend)
URL:https://www.intramedics.eu/event/dive-into-protocols-nederland-2/
LOCATION:Van der Valk Utrecht\, Winthontlaan 4\, Utrecht\, 3526KV\, Netherlands
CATEGORIES:Training
END:VEVENT
BEGIN:VEVENT
DTSTART;TZID=Europe/Brussels:20240513T100000
DTEND;TZID=Europe/Brussels:20240513T160000
DTSTAMP:20260421T172045
CREATED:20230713T102510Z
LAST-MODIFIED:20240510T065247Z
UID:7924-1715594400-1715616000@www.intramedics.eu
SUMMARY:Dive Into Protocols – België
DESCRIPTION:Trainingsprogramma voor klanten met focus op de protocollen en Advanced Combined Therapy\, inclusief ingrediëntenleer \nOntdek de synergie tussen diverse behandelingen en technieken. Inclusief een uitgebreide opleiding voor baliepersoneel. Met de nadruk op ingrediëntenleer\, van consultatie tot controle. Intramedics is opgericht vanuit de gedachte dat huidspecialisten hun kracht niet alleen halen uit effectieve producten en behandelingen\, maar dat zij kennis nodig hebben om hun doelen te kunnen bereiken en succesvol te blijven. Onze toewijding aan deze visie heeft geresulteerd in een uitgebreid trainingsprogramma voor onze klanten. Door dit trainingsprogramma kosteloos aan te bieden aan u als huidspecialist\, wordt u de kans geboden om het maximale uit uw expertise te halen. Tips & tricks komen zeker van pas. Laat jouw kennis groeien\, mis het niet! \n\nWat mag u verwachten? \n· Dermaceutic en Renophase protocollen\n· Theraderm & SRS protocollen\n· Advanced Combined Therapy\n· Ingrediëntenleer & verkoopstechnieken\n· Doelgroep: Gevorderden \n\nData & locatie\n\n· Maandag 13 mei 2024 van 10.00u (stipt!) tot 16.00u\n· Crown Plaza Antwerpen – Gerard Le Grellelaan 10\n· GRATIS (bij no-show wordt er 75 euro onkosten aangerekend)
URL:https://www.intramedics.eu/event/dive-into-protocols-belgie-2/
LOCATION:Art Medico Clinic\, Coupure links 629-001\, Gent\, 9000\, Belgium
CATEGORIES:Training
END:VEVENT
BEGIN:VEVENT
DTSTART;TZID=Europe/Brussels:20240227T100000
DTEND;TZID=Europe/Brussels:20240227T160000
DTSTAMP:20260421T172045
CREATED:20230713T094408Z
LAST-MODIFIED:20240221T074659Z
UID:7895-1709028000-1709049600@www.intramedics.eu
SUMMARY:Dive Into Protocols – Nederland
DESCRIPTION:Trainingsprogramma voor klanten met focus op de protocollen en Advanced Combined Therapy\, inclusief ingrediëntenleer.  \nOntdek de synergie tussen diverse behandelingen en technieken. Inclusief een uitgebreide opleiding voor baliepersoneel. Met de nadruk op ingrediëntenleer\, van consultatie tot controle. Intramedics is opgericht vanuit de gedachte dat huidspecialisten hun kracht niet alleen halen uit effectieve producten en behandelingen\, maar dat zij kennis nodig hebben om hun doelen te kunnen bereiken en succesvol te blijven. Onze toewijding aan deze visie heeft geresulteerd in een uitgebreid trainingsprogramma voor onze bestaande klanten. Door dit trainingsprogramma kosteloos aan te bieden aan u als huidspecialist\, wordt u de kans geboden om het maximale uit uw expertise te halen. Tips & tricks komen zeker van pas. Laat jouw kennis groeien\, mis het niet! \n\nWat mag u verwachten? \n· Dermaceutic en Renophase protocollen\n· Theraderm & SRS protocollen\n· Advanced Combined Therapy\n· Ingrediëntenleer & verkoopstechnieken\n· Doelgroep: Gevorderden \n\nData & locatie\n\n· Dinsdag 27 februari 2024 van 10.00u (stipt!) tot 16.00u\n· Van der Valk Hotel\, Winthontlaan 4\, 3526 KV Utrecht\, Nederland\n· GRATIS (bij no-show wordt er 75 euro onkosten aangerekend)
URL:https://www.intramedics.eu/event/dive-into-protocols-nederland/
LOCATION:Van der Valk Utrecht\, Winthontlaan 4\, Utrecht\, 3526KV\, Netherlands
CATEGORIES:Training
END:VEVENT
BEGIN:VEVENT
DTSTART;TZID=Europe/Brussels:20240226T100000
DTEND;TZID=Europe/Brussels:20240226T160000
DTSTAMP:20260421T172045
CREATED:20230713T093701Z
LAST-MODIFIED:20240221T074742Z
UID:7893-1708941600-1708963200@www.intramedics.eu
SUMMARY:Dive Into Protocols – België
DESCRIPTION:Trainingsprogramma voor klanten met focus op Combined Therapy\, inclusief ingrediëntenleer.  \nOntdek de synergie tussen diverse behandelingen en technieken. Inclusief een uitgebreide opleiding voor baliepersoneel. Met de nadruk op ingrediëntenleer\, van consultatie tot controle. Intramedics is opgericht vanuit de gedachte dat huidspecialisten hun kracht niet alleen halen uit effectieve producten en behandelingen\, maar dat zij kennis nodig hebben om hun doelen te kunnen bereiken en succesvol te blijven. Onze toewijding aan deze visie heeft geresulteerd in een uitgebreid trainingsprogramma voor onze klanten. Door dit trainingsprogramma kosteloos aan te bieden aan u als huidspecialist\, wordt u de kans geboden om het maximale uit uw expertise te halen. Tips & tricks komen zeker van pas. Laat jouw kennis groeien\, mis het niet! \n\nWat mag u verwachten? \n· Dermaceutic en Renophase protocollen\n· Theraderm & SRS protocollen\n· Advanced Combined Therapy\n· Ingrediëntenleer & verkoopstechnieken\n· Doelgroep: Gevorderden \n\nData & locatie\n\n· Maandag 26 februari 2024 van 10.00u (stipt!) tot 16.00u\n· Crown Plaza Antwerpen – Gerard Le Grellelaan 10\n· GRATIS (bij no-show wordt er 75 euro onkosten aangerekend)
URL:https://www.intramedics.eu/event/dive-into-protocols-belgie/
LOCATION:Art Medico Clinic\, Coupure links 629-001\, Gent\, 9000\, Belgium
CATEGORIES:Training
END:VEVENT
END:VCALENDAR