BEGIN:VCALENDAR
VERSION:2.0
PRODID:-//Intramedics - ECPv6.2.2.1//NONSGML v1.0//EN
CALSCALE:GREGORIAN
METHOD:PUBLISH
X-ORIGINAL-URL:https://www.intramedics.eu
X-WR-CALDESC:Events for Intramedics
REFRESH-INTERVAL;VALUE=DURATION:PT1H
X-Robots-Tag:noindex
X-PUBLISHED-TTL:PT1H
BEGIN:VTIMEZONE
TZID:Europe/Brussels
BEGIN:DAYLIGHT
TZOFFSETFROM:+0100
TZOFFSETTO:+0200
TZNAME:CEST
DTSTART:20260329T010000
END:DAYLIGHT
BEGIN:STANDARD
TZOFFSETFROM:+0200
TZOFFSETTO:+0100
TZNAME:CET
DTSTART:20261025T010000
END:STANDARD
END:VTIMEZONE
BEGIN:VEVENT
DTSTART;TZID=Europe/Brussels:20260601T090000
DTEND;TZID=Europe/Brussels:20260601T123000
DTSTAMP:20260421T130742
CREATED:20251030T103607Z
LAST-MODIFIED:20260312T131317Z
UID:8305-1780304400-1780317000@www.intramedics.eu
SUMMARY:Renophase Basis training – België
DESCRIPTION:Trainingsprogramma voor klanten (starter & refresh) \nIntramedics is opgericht vanuit de gedachte dat huidspecialisten hun kracht niet alleen halen uit effectieve producten en behandelingen\, maar dat zij kennis nodig hebben om hun doelen te kunnen bereiken en succesvol te blijven. Onze toewijding aan deze visie heeft geresulteerd in een uitgebreid trainingsprogramma voor onze klanten. Door dit trainingsprogramma kosteloos aan te bieden aan u als huidspecialist\, wordt u de kans geboden om het maximale uit uw expertise te halen. Tips & tricks komen zeker van pas. Laat jouw kennis groeien\, mis het niet! \nWat mag u verwachten? \n· Introductie en visie ingrediëntenleer homecare en professionele producten\n· Productadvies per indicatie\n· Duurtijd: 1/2 dag\n· Doelgroep: Starters en refresh \n\nData & locatie\n\n· Maandag 01 juni 2026 van 09.00u (stipt!) tot 12.30u\n· Art Medico Clinic Coupure links 629-001\, Gent\, Belgium\n· GRATIS (bij no-show wordt er 75 euro onkosten aangerekend)
URL:https://www.intramedics.eu/event/renophase-basis-training-belgie-13/
LOCATION:Art Medico Clinic\, Coupure links 629-001\, Gent\, 9000\, Belgium
CATEGORIES:Training
END:VEVENT
BEGIN:VEVENT
DTSTART;TZID=Europe/Brussels:20260604T090000
DTEND;TZID=Europe/Brussels:20260604T123000
DTSTAMP:20260421T130742
CREATED:20251030T101613Z
LAST-MODIFIED:20260312T131440Z
UID:8279-1780563600-1780576200@www.intramedics.eu
SUMMARY:Renophase Basis training – Nederland
DESCRIPTION:Trainingsprogramma voor klanten (starter & refresh) \nIntramedics is opgericht vanuit de gedachte dat huidspecialisten hun kracht niet alleen halen uit effectieve producten en behandelingen\, maar dat zij kennis nodig hebben om hun doelen te kunnen bereiken en succesvol te blijven. Onze toewijding aan deze visie heeft geresulteerd in een uitgebreid trainingsprogramma voor onze klanten. Door dit trainingsprogramma kosteloos aan te bieden aan u als huidspecialist\, wordt u de kans geboden om het maximale uit uw expertise te halen. Tips & tricks komen zeker van pas. Laat jouw kennis groeien\, mis het niet! \n\nWat mag u verwachten? \n· Introductie en visie ingrediëntenleer homecare en professionele producten\n· Productadvies per indicatie\n· Duurtijd: 1/2 dag\n· Doelgroep: Starters en refresh \n\nData & locatie\n\n· Donderag 04 juni 2026 van 09.00u (stipt!) tot 12.30u\n· Van der Valk Hotel\, Winthontlaan 4\, 3526 KV Utrecht\, Nederland\n· GRATIS (bij no-show wordt er 75 euro onkosten aangerekend
URL:https://www.intramedics.eu/event/renophase-basis-training-nederland-13/
LOCATION:Van der Valk Utrecht\, Winthontlaan 4\, Utrecht\, 3526KV\, Netherlands
END:VEVENT
BEGIN:VEVENT
DTSTART;TZID=Europe/Brussels:20260907T090000
DTEND;TZID=Europe/Brussels:20260907T123000
DTSTAMP:20260421T130742
CREATED:20251030T103701Z
LAST-MODIFIED:20260312T131547Z
UID:8307-1788771600-1788784200@www.intramedics.eu
SUMMARY:Renophase Basis training – België
DESCRIPTION:Trainingsprogramma voor klanten (starter & refresh) \nIntramedics is opgericht vanuit de gedachte dat huidspecialisten hun kracht niet alleen halen uit effectieve producten en behandelingen\, maar dat zij kennis nodig hebben om hun doelen te kunnen bereiken en succesvol te blijven. Onze toewijding aan deze visie heeft geresulteerd in een uitgebreid trainingsprogramma voor onze klanten. Door dit trainingsprogramma kosteloos aan te bieden aan u als huidspecialist\, wordt u de kans geboden om het maximale uit uw expertise te halen. Tips & tricks komen zeker van pas. Laat jouw kennis groeien\, mis het niet! \nWat mag u verwachten? \n· Introductie en visie ingrediëntenleer homecare en professionele producten\n· Productadvies per indicatie\n· Duurtijd: 1/2 dag\n· Doelgroep: Starters en refresh \n\nData & locatie\n\n· Maandag 07 september 2026 van 09.00u (stipt!) tot 12.30u\n· Art Medico Clinic Coupure links 629-001\, Gent\, Belgium\n· GRATIS (bij no-show wordt er 75 euro onkosten aangerekend)
URL:https://www.intramedics.eu/event/renophase-basis-training-belgie-14/
LOCATION:Art Medico Clinic\, Coupure links 629-001\, Gent\, 9000\, Belgium
CATEGORIES:Training
END:VEVENT
BEGIN:VEVENT
DTSTART;TZID=Europe/Brussels:20261001T090000
DTEND;TZID=Europe/Brussels:20261001T123000
DTSTAMP:20260421T130742
CREATED:20251030T101714Z
LAST-MODIFIED:20260312T131659Z
UID:8281-1790845200-1790857800@www.intramedics.eu
SUMMARY:Renophase Basis training – Nederland
DESCRIPTION:Trainingsprogramma voor klanten (starter & refresh) \nIntramedics is opgericht vanuit de gedachte dat huidspecialisten hun kracht niet alleen halen uit effectieve producten en behandelingen\, maar dat zij kennis nodig hebben om hun doelen te kunnen bereiken en succesvol te blijven. Onze toewijding aan deze visie heeft geresulteerd in een uitgebreid trainingsprogramma voor onze klanten. Door dit trainingsprogramma kosteloos aan te bieden aan u als huidspecialist\, wordt u de kans geboden om het maximale uit uw expertise te halen. Tips & tricks komen zeker van pas. Laat jouw kennis groeien\, mis het niet! \n\nWat mag u verwachten? \n· Introductie en visie ingrediëntenleer homecare en professionele producten\n· Productadvies per indicatie\n· Duurtijd: 1/2 dag\n· Doelgroep: Starters en refresh \n\nData & locatie\n\n· Donderdag 01 oktober 2026 van 09.00u (stipt!) tot 12.30u\n· Van der Valk Hotel\, Winthontlaan 4\, 3526 KV Utrecht\, Nederland\n· GRATIS (bij no-show wordt er 75 euro onkosten aangerekend
URL:https://www.intramedics.eu/event/renophase-basis-training-nederland-14/
LOCATION:Van der Valk Utrecht\, Winthontlaan 4\, Utrecht\, 3526KV\, Netherlands
CATEGORIES:Training
END:VEVENT
BEGIN:VEVENT
DTSTART;TZID=Europe/Brussels:20261026T090000
DTEND;TZID=Europe/Brussels:20261026T123000
DTSTAMP:20260421T130742
CREATED:20251030T103828Z
LAST-MODIFIED:20260312T131808Z
UID:8309-1793005200-1793017800@www.intramedics.eu
SUMMARY:Renophase Basis training – België
DESCRIPTION:Trainingsprogramma voor klanten (starter & refresh) \nIntramedics is opgericht vanuit de gedachte dat huidspecialisten hun kracht niet alleen halen uit effectieve producten en behandelingen\, maar dat zij kennis nodig hebben om hun doelen te kunnen bereiken en succesvol te blijven. Onze toewijding aan deze visie heeft geresulteerd in een uitgebreid trainingsprogramma voor onze klanten. Door dit trainingsprogramma kosteloos aan te bieden aan u als huidspecialist\, wordt u de kans geboden om het maximale uit uw expertise te halen. Tips & tricks komen zeker van pas. Laat jouw kennis groeien\, mis het niet! \nWat mag u verwachten? \n· Introductie en visie ingrediëntenleer homecare en professionele producten\n· Productadvies per indicatie\n· Duurtijd: 1/2 dag\n· Doelgroep: Starters en refresh \n\nData & locatie\n\n· Maandag 26 oktober 2026 van 09.00u (stipt!) tot 12.30u\n· Crown Plaza Antwerpen – Gerard Le Grellelaan 10\n· GRATIS (bij no-show wordt er 75 euro onkosten aangerekend)
URL:https://www.intramedics.eu/event/renophase-basis-training-belgie-15/
LOCATION:Art Medico Clinic\, Coupure links 629-001\, Gent\, 9000\, Belgium
CATEGORIES:Training
END:VEVENT
BEGIN:VEVENT
DTSTART;TZID=Europe/Brussels:20261126T090000
DTEND;TZID=Europe/Brussels:20261126T123000
DTSTAMP:20260421T130742
CREATED:20251030T101813Z
LAST-MODIFIED:20260312T132029Z
UID:8283-1795683600-1795696200@www.intramedics.eu
SUMMARY:Renophase Basis training – Nederland
DESCRIPTION:Trainingsprogramma voor klanten (starter & refresh) \nIntramedics is opgericht vanuit de gedachte dat huidspecialisten hun kracht niet alleen halen uit effectieve producten en behandelingen\, maar dat zij kennis nodig hebben om hun doelen te kunnen bereiken en succesvol te blijven. Onze toewijding aan deze visie heeft geresulteerd in een uitgebreid trainingsprogramma voor onze klanten. Door dit trainingsprogramma kosteloos aan te bieden aan u als huidspecialist\, wordt u de kans geboden om het maximale uit uw expertise te halen. Tips & tricks komen zeker van pas. Laat jouw kennis groeien\, mis het niet! \n\nWat mag u verwachten? \n· Introductie en visie ingrediëntenleer homecare en professionele producten\n· Productadvies per indicatie\n· Duurtijd: 1/2 dag\n· Doelgroep: Starters en refresh \n\nData & locatie\n\n· Donderdag 26 november 2026 van 09.00u (stipt!) tot 12.30u\n· Van der Valk Hotel\, Winthontlaan 4\, 3526 KV Utrecht\, Nederland\n· GRATIS (bij no-show wordt er 75 euro onkosten aangerekend
URL:https://www.intramedics.eu/event/renophase-basis-training-nederland-15/
LOCATION:Van der Valk Utrecht\, Winthontlaan 4\, Utrecht\, 3526KV\, Netherlands
CATEGORIES:Training
END:VEVENT
END:VCALENDAR